BEGIN:VCALENDAR
VERSION:2.0
PRODID:-//eventon.com NONSGML v1.0//EN
CALSCALE:GREGORIAN
METHOD:PUBLISH
BEGIN:VEVENT
UID:69e761c62b6a2
DTSTAMP:20260421T113846Z
DTSTART:20251104T150000Z
DTEND:20251104T190000Z
LOCATION:The Blue Hall\,  The Arts Center at NYU Abu Dhabi The Blue Hall\,  The Arts Center at NYU Abu Dhabi
SUMMARY:CinemaNA: My Driver And I - Ahd Kamel
DESCRIPTION:Some friendships are made on the playground\,  others in coffee
  shops… and then there’s the one between a rebellious Saudi teen and he
 r Sudanese driver. Buckle up—this isn’t your average coming-of-age stor
 y. More Than Just a Ride Set in the 80s and 90s Jeddah\,  My Driver and I f
 ollows Salma\, [..]\nhttps://wow-abudhabi.com/events/my-driver-and-i/
URL:https://wow-abudhabi.com/events/my-driver-and-i/
END:VEVENT
END:VCALENDAR