BEGIN:VCALENDAR
VERSION:2.0
PRODID:-//eventon.com NONSGML v1.0//EN
CALSCALE:GREGORIAN
METHOD:PUBLISH
BEGIN:VEVENT
UID:69e7621b54868
DTSTAMP:20260421T114011Z
DTSTART:20250906T130000Z
DTEND:20250906T195900Z
LOCATION:Iconic India Social &amp; Cultural Center\,  Abu Dhabi Iconic India Social & Cultural Center\,  Abu Dhabi
SUMMARY:Hanan Shaah Live
DESCRIPTION:Ready to crank up your weekend plans? Because Abu Dhabi is abou
 t to get loud\,  lively\,  and oh-so-fabulous!Mark your calendars: Hanan Sh
 aah Live Concert is happening on September 6th at the iconic India Social &
 amp; Cultural Center. Gates swing open at 5 PM sharp\,  so don’t even thi
 nk about “fashionably[..]\nhttps://wow-abudhabi.com/events/hanan-shaah-li
 ve-concert-abu-dhabi/
URL:https://wow-abudhabi.com/events/hanan-shaah-live-concert-abu-dhabi/
END:VEVENT
END:VCALENDAR