BEGIN:VCALENDAR
VERSION:2.0
PRODID:-//eventon.com NONSGML v1.0//EN
CALSCALE:GREGORIAN
METHOD:PUBLISH
BEGIN:VEVENT
UID:69e736a1d070f
DTSTAMP:20260421T083441Z
DTSTART:20250913T114000Z
DTEND:20250913T195900Z
LOCATION:Mohammed bin Zayed Stadium\,  Abu Dhabi Mohammed bin Zayed Stadium\,  Abu Dhabi
SUMMARY:Al Jazira FC vs Al Nasr FC
DESCRIPTION:Football fever is back in Abu Dhabi! Watch Al Jazira FC take on
  Al Nasr FC in an electrifying showdown at Mohammed bin Zayed Stadium — a
  night of goals\,  chants\,  and pure stadium vibes you don’t want to mis
 s. Event Details Date &amp; Time &#8211; Friday\,  13th September 2025Doors
 [..]\nhttps://wow-abudhabi.com/events/al-jazira-vs-al-nasr-abu-dhabi/
URL:https://wow-abudhabi.com/events/al-jazira-vs-al-nasr-abu-dhabi/
END:VEVENT
END:VCALENDAR