BEGIN:VCALENDAR
VERSION:2.0
PRODID:-//eventon.com NONSGML v1.0//EN
CALSCALE:GREGORIAN
METHOD:PUBLISH
BEGIN:VEVENT
UID:69e648afea7b9
DTSTAMP:20260420T153927Z
DTSTART:20260430T160000Z
DTEND:20260430T195900Z
LOCATION:Etihad Arena Abu Dhabi Etihad Arena Abu Dhabi
SUMMARY:Rashed Al-Majed Live in Abu Dhabi
DESCRIPTION:🎤✨ A legendary night of music awaits as Rashed Al-Majed ta
 kes center stage at the iconic Etihad Arena for an unforgettable live conce
 rt experience. Set to captivate audiences on Yas Island\,  this highly anti
 cipated performance promises an evening filled with emotion\,  nostalgia\, 
  and timeless melodies. On 30 April 2026\,  fans[..]\nhttps://wow-abudhabi.
 com/events/rashed-al-majed-live-in-abu-dhabi/
URL:https://wow-abudhabi.com/events/rashed-al-majed-live-in-abu-dhabi/
END:VEVENT
END:VCALENDAR