BEGIN:VCALENDAR
VERSION:2.0
PRODID:-//eventon.com NONSGML v1.0//EN
CALSCALE:GREGORIAN
METHOD:PUBLISH
BEGIN:VEVENT
UID:69ea2dd4189f2
DTSTAMP:20260423T143356Z
DTSTART:20260508T060000Z
DTEND:20260508T160000Z
LOCATION:Yas Waterworld Abu Dhabi Yas Island - YS4 - Abu Dhabi - United Arab Emirates
SUMMARY:Yas Ladies Returns
DESCRIPTION:🌊💃 Yas Ladies at Yas Waterworld – The Ultimate Girls’
  Getaway 💃🌊 Get ready for an exciting return as Yas Ladies takes over
  Yas Waterworld on Yas Island\,  Abu Dhabi\,  bringing bigger thrills\,  vi
 brant energy\,  and unforgettable experiences! 🌟✨ Starting from 24 Apr
 il\,  this iconic women-only event invites ladies to[..]\nhttps://wow-abudh
 abi.com/events/yas-ladies-returns/var/ri-2.l-L1
URL:https://wow-abudhabi.com/events/yas-ladies-returns/var/ri-2.l-L1
END:VEVENT
END:VCALENDAR