BEGIN:VCALENDAR
VERSION:2.0
PRODID:-//eventon.com NONSGML v1.0//EN
CALSCALE:GREGORIAN
METHOD:PUBLISH
BEGIN:VEVENT
UID:69e73dbe20c87
DTSTAMP:20260421T090502Z
DTSTART:20250503T200000Z
DTEND:20250503T235900Z
LOCATION:Etihad Arena Abu Dhabi Etihad Arena Abu Dhabi
SUMMARY:Gabriel Iglesias Live
DESCRIPTION:Get ready for an unforgettable evening of laughter with the one
  and only Gabriel Iglesias! Known as ‘Fluffy\, ’ this world-renowned co
 median brings his hilarious personal stories\,  spot-on impersonations\,  a
 nd animated storytelling to Etihad Arena\,  Abu Dhabi. Experience fresh new
  material that will have you laughing non-stop! 📅 Date: 3rd May⏰[..]\n
 https://wow-abudhabi.com/events/gabriel-iglesias-live/
URL:https://wow-abudhabi.com/events/gabriel-iglesias-live/
END:VEVENT
END:VCALENDAR