BEGIN:VCALENDAR
VERSION:2.0
PRODID:-//eventon.com NONSGML v1.0//EN
CALSCALE:GREGORIAN
METHOD:PUBLISH
BEGIN:VEVENT
UID:69e762590e782
DTSTAMP:20260421T114113Z
DTSTART:20250426T210000Z
DTEND:20250426T235900Z
LOCATION:Etihad Arena Abu Dhabi Etihad Arena Abu Dhabi
SUMMARY:Trevor Noah Comedy Season!
DESCRIPTION:Get ready for a night of laughter as Trevor Noah returns to Eti
 had Arena on April 26th as part of the Abu Dhabi Comedy Season! After a sol
 d-out show in February 2024\,  the comedy legend is back with all-new mater
 ial that promises to be even sharper\,  funnier\,  and more thought-provoki
 ng![..]\nhttps://wow-abudhabi.com/events/trevor-noah-comedy-season/
URL:https://wow-abudhabi.com/events/trevor-noah-comedy-season/
END:VEVENT
END:VCALENDAR