BEGIN:VCALENDAR
VERSION:2.0
PRODID:-//eventon.com NONSGML v1.0//EN
CALSCALE:GREGORIAN
METHOD:PUBLISH
BEGIN:VEVENT
UID:69e8f466cc8c2
DTSTAMP:20260422T161638Z
DTSTART:20250829T100000Z
DTEND:20250831T183000Z
LOCATION:Etihad Arena Abu Dhabi Etihad Arena Abu Dhabi
SUMMARY:Paw Patrol Live!
DESCRIPTION:Get ready to set sail on a swashbuckling adventure with Ryder a
 nd his team of brave pups as they journey to uncover hidden treasure in a t
 hrilling pirate-themed rescue mission! Join the fun as Adventure Bay gets r
 eady for a big Pirate Day celebration—until Cap’n Turbot falls into a m
 ysterious[..]\nhttps://wow-abudhabi.com/events/paw-patrol-live/
URL:https://wow-abudhabi.com/events/paw-patrol-live/
END:VEVENT
END:VCALENDAR