BEGIN:VCALENDAR
VERSION:2.0
PRODID:-//eventon.com NONSGML v1.0//EN
CALSCALE:GREGORIAN
METHOD:PUBLISH
BEGIN:VEVENT
UID:69e5cf176c816
DTSTAMP:20260420T070039Z
DTSTART:20250530T200000Z
DTEND:20250530T235900Z
LOCATION:Etihad Arena Abu Dhabi Etihad Arena Abu Dhabi
SUMMARY:Gad Elmaleh Live
DESCRIPTION:For the first time ever\,  internationally acclaimed comedian G
 ad Elmaleh takes the stage at Etihad Arena as part of the Abu Dhabi Comedy 
 Season! 🇫🇷🇲🇦 Known as one of the funniest people in France\,  G
 ad brings his signature blend of wit\,  charm\,  and storytelling that has 
 wowed global audiences in[..]\nhttps://wow-abudhabi.com/events/gad-elmaleh-
 live/
URL:https://wow-abudhabi.com/events/gad-elmaleh-live/
END:VEVENT
END:VCALENDAR