BEGIN:VCALENDAR
VERSION:2.0
PRODID:-//eventon.com NONSGML v1.0//EN
CALSCALE:GREGORIAN
METHOD:PUBLISH
BEGIN:VEVENT
UID:69e763708534a
DTSTAMP:20260421T114552Z
DTSTART:20250323T170000Z
DTEND:20250331T020000Z
LOCATION:Emirates Park Zoo &amp; Resort\,  Abu Dhabi Emirates Park Zoo & Resort\,  Abu Dhabi
SUMMARY:Ramadan Nights at Emirates Park Zoo
DESCRIPTION:Get ready to celebrate the spirit of Ramadan like never before 
 at Emirates Park Zoo &amp; Resort\,  Abu Dhabi! From March 23rd to 31st\,  
 experience a magical blend of tradition\,  entertainment\,  and delicious c
 uisine in one unforgettable evening. 🕔 Time: 5:00 PM – 2:00 AM💰 Ent
 ry: AED 137📍 Location: Emirates[..]\nhttps://wow-abudhabi.com/events/ram
 adan-nights-at-emirates-park-zoo/
URL:https://wow-abudhabi.com/events/ramadan-nights-at-emirates-park-zoo/
END:VEVENT
END:VCALENDAR