BEGIN:VCALENDAR
VERSION:2.0
PRODID:-//eventon.com NONSGML v1.0//EN
CALSCALE:GREGORIAN
METHOD:PUBLISH
BEGIN:VEVENT
UID:69e7621ba92f3
DTSTAMP:20260421T114011Z
DTSTART:20250529T133000Z
DTEND:20250601T223000Z
LOCATION:The Red Theater\,  New York University Abu Dhabi The Red Theater\,  New York University Abu Dhabi
SUMMARY:Shrek The Musical Hits
DESCRIPTION:Get ready for a hilarious and heartwarming adventure as Abu Dha
 bi’s favorite community theater group brings the beloved animated tale Sh
 rek The Musical to life on stage! Follow Shrek\,  the grumpy ogre with a he
 art of gold\,  as he sets off to rescue the fiery Princess Fiona with his h
 ilarious[..]\nhttps://wow-abudhabi.com/events/shrek-the-musical-hits/
URL:https://wow-abudhabi.com/events/shrek-the-musical-hits/
END:VEVENT
END:VCALENDAR