BEGIN:VCALENDAR
VERSION:2.0
PRODID:-//eventon.com NONSGML v1.0//EN
CALSCALE:GREGORIAN
METHOD:PUBLISH
BEGIN:VEVENT
UID:69e80ad3dae96
DTSTAMP:20260421T234003Z
DTSTART:20250406T140000Z
DTEND:20250406T200000Z
LOCATION:Al Maya Island &amp; Resort Al Maya Island & Resort
SUMMARY:Family Fun at Al Maya Island Resort
DESCRIPTION:Looking for the perfect weekend escape? Dive into fun and creat
 e unforgettable memories with your loved ones at the Family Pool Party on S
 unday\,  6th April\,  from 2 PM to 8 PM\,  at the stunning Al Maya Island &
 amp; Resort! ☀️ 🎟 Day Pass: AED 250Includes AED 100 F&amp;B credit[.
 .]\nhttps://wow-abudhabi.com/events/family-fun-at-al-maya-island-resort/
URL:https://wow-abudhabi.com/events/family-fun-at-al-maya-island-resort/
END:VEVENT
END:VCALENDAR