BEGIN:VCALENDAR
VERSION:2.0
PRODID:-//eventon.com NONSGML v1.0//EN
CALSCALE:GREGORIAN
METHOD:PUBLISH
BEGIN:VEVENT
UID:69ea7fce42ccf
DTSTAMP:20260423T202342Z
DTSTART:20250418T170000Z
DTEND:20250420T235900Z
LOCATION:Etihad Arena\,  Yas Island\,  Abu Dhabi Yas Bay Waterfront\,  Yas Drive (Yas Street)\,  YS2\,  Yas Island\,  Abu Dhabi\,  United Arab Emirates
SUMMARY:Hangout at Good Vibes Village
DESCRIPTION:Get ready for the ultimate weekend hangout at Club Social Good 
 Vibes Village\,  happening April 18-20\,  2025\,  from 5:00 PM onwards at E
 tihad Park\,  Yas Drive\,  Abu Dhabi! ✨ What’s in store?🎧 Epic DJ se
 ts🍟 Delicious food trucks🎨 Arts &amp; crafts🕹️ Arcade &amp; inte
 ractive games📸 360 Glam Box&#8230;and loads more[..]\nhttps://wow-abudha
 bi.com/events/hangout-at-good-vibes-village/
URL:https://wow-abudhabi.com/events/hangout-at-good-vibes-village/
END:VEVENT
END:VCALENDAR