BEGIN:VCALENDAR
VERSION:2.0
PRODID:-//eventon.com NONSGML v1.0//EN
CALSCALE:GREGORIAN
METHOD:PUBLISH
BEGIN:VEVENT
UID:69e88fa389d71
DTSTAMP:20260422T090643Z
DTSTART:20250426T200000Z
DTEND:20250426T235900Z
LOCATION:Yas Marina Circuit\,  Abu Dhabi Yas Marina Circuit\,  Abu Dhabi
SUMMARY:PARTYNEXTDOOR Live at BRED
DESCRIPTION:Get ready\,  Abu Dhabi! The chart-topping R&amp;B sensation PAR
 TYNEXTDOOR is bringing his signature sound to BRED Abu Dhabi on Saturday\, 
  April 26\,  2025\,  at the iconic Yas Marina Circuit! Known for hits like 
 &#8220;Come and See Me\, &#8221; &#8220;Break from Toronto\, &#8221; and &#
 8220;Recognize\, &#8221; and for writing global smashes like Rihanna’s &#
 8220;Work&#8221;[..]\nhttps://wow-abudhabi.com/events/partynextdoor-live-at
 -bred/
URL:https://wow-abudhabi.com/events/partynextdoor-live-at-bred/
END:VEVENT
END:VCALENDAR