BEGIN:VCALENDAR
VERSION:2.0
PRODID:-//eventon.com NONSGML v1.0//EN
CALSCALE:GREGORIAN
METHOD:PUBLISH
BEGIN:VEVENT
UID:69e902a3d607f
DTSTAMP:20260422T171723Z
DTSTART:20250410T080000Z
DTEND:20250411T180000Z
LOCATION:ADNEC Centre\,  Abu Dhabi\,  UAE ADNEC Centre\,  Abu Dhabi\,  UAE
SUMMARY:16th ADWCC
DESCRIPTION:In collaboration with IIWCG &amp; SKMC\,  the much-anticipated 
 ADWCC 2025 returns under the theme:&#8220;Evidence Made Personal: Tailor-Ma
 de Person-Centered Care.&#8221; This milestone 16th edition continues its l
 egacy as a pivotal platform for advancing wound care knowledge and practice
 . From diabetic foot prevention to skin tear management and the latest rese
 arch breakthroughs\, [..]\nhttps://wow-abudhabi.com/events/16th-adwcc/
URL:https://wow-abudhabi.com/events/16th-adwcc/
END:VEVENT
END:VCALENDAR