BEGIN:VCALENDAR
VERSION:2.0
PRODID:-//eventon.com NONSGML v1.0//EN
CALSCALE:GREGORIAN
METHOD:PUBLISH
BEGIN:VEVENT
UID:69ea0469afa90
DTSTAMP:20260423T113713Z
DTSTART:20250428T100000Z
DTEND:20250502T170000Z
LOCATION:Abu Dhabi National Exhibition Centre Abu Dhabi National Exhibition Centre
SUMMARY:64th IFATCA Annual Conference
DESCRIPTION:Abu Dhabi is proud to host the prestigious 64th IFATCA Annual C
 onference\,  a global gathering that highlights the UAE’s dedication to a
 viation excellence\,  innovation\,  and international cooperation. This ann
 ual event brings together directors\,  delegates\,  industry partners\,  an
 d aviation professionals to explore the latest advancements in air traffic 
 management. Discussions will[..]\nhttps://wow-abudhabi.com/events/64th-ifat
 ca-annual-conference/
URL:https://wow-abudhabi.com/events/64th-ifatca-annual-conference/
END:VEVENT
END:VCALENDAR