BEGIN:VCALENDAR
VERSION:2.0
PRODID:-//eventon.com NONSGML v1.0//EN
CALSCALE:GREGORIAN
METHOD:PUBLISH
BEGIN:VEVENT
UID:69e96d82ae06a
DTSTAMP:20260423T005322Z
DTSTART:20250426T090000Z
DTEND:20250506T220000Z
LOCATION:Abu Dhabi National Exhibition Centre Abu Dhabi National Exhibition Centre
SUMMARY:34th Abu Dhabi International Book Fair
DESCRIPTION:Get ready to immerse yourself in the world of literature and cr
 eativity at the 34th Abu Dhabi International Book Fair! From April 26 to Ma
 y 6\,  experience an incredible journey through local and international boo
 ks\,  graphic design\,  illustrations\,  and captivating storytelling by to
 p illustrators and graphic novelists. 🎨 Dive into[..]\nhttps://wow-abudh
 abi.com/events/34th-abu-dhabi-international-book-fair/
URL:https://wow-abudhabi.com/events/34th-abu-dhabi-international-book-fair/
END:VEVENT
END:VCALENDAR