BEGIN:VCALENDAR
VERSION:2.0
PRODID:-//eventon.com NONSGML v1.0//EN
CALSCALE:GREGORIAN
METHOD:PUBLISH
BEGIN:VEVENT
UID:69e9316a0e0c0
DTSTAMP:20260422T203658Z
DTSTART:20250513T100000Z
DTEND:20250516T170000Z
LOCATION:Abu Dhabi National Exhibition Centre Abu Dhabi National Exhibition Centre
SUMMARY:25th IUHPE World Conference on Health Promotion
DESCRIPTION:For the first time in the Middle East\,  Abu Dhabi is proud to 
 host the 25th IUHPE World Conference on Health Promotion\,  in collaboratio
 n with the International Union for Health Promotion and Education and the A
 bu Dhabi Public Health Centre. 📅 Date: 13 – 16 May 2025🕙 Time: 10:0
 0 AM[..]\nhttps://wow-abudhabi.com/events/25th-iuhpe-world-conference-on-he
 alth-promotion/
URL:https://wow-abudhabi.com/events/25th-iuhpe-world-conference-on-health-promotion/
END:VEVENT
END:VCALENDAR