BEGIN:VCALENDAR
VERSION:2.0
PRODID:-//eventon.com NONSGML v1.0//EN
CALSCALE:GREGORIAN
METHOD:PUBLISH
BEGIN:VEVENT
UID:69e74993b015e
DTSTAMP:20260421T095531Z
DTSTART:20250411T100000Z
DTEND:20250412T180000Z
LOCATION:ADNEC Marina\,  Abu Dhabi ADNEC Marina\,  Abu Dhabi
SUMMARY:A2RL Autonomous Drone Championship Finals
DESCRIPTION:Gear up for an adrenaline-charged weekend as the world’s lead
 ing Extreme Autonomous Racing Series arrives in Abu Dhabi! Witness cutting-
 edge technology and high-speed thrills like never before\,  where AI-powere
 d machines battle it out for victory — no human drivers required! 📍 Lo
 cation: ADNEC Marina\,  Abu Dhabi📅 Dates: 11 – 12[..]\nhttps://wow-abu
 dhabi.com/events/a2rl-autonomous-drone-championship-finals/
URL:https://wow-abudhabi.com/events/a2rl-autonomous-drone-championship-finals/
END:VEVENT
END:VCALENDAR