BEGIN:VCALENDAR
VERSION:2.0
PRODID:-//eventon.com NONSGML v1.0//EN
CALSCALE:GREGORIAN
METHOD:PUBLISH
BEGIN:VEVENT
UID:69e76174eea59
DTSTAMP:20260421T113724Z
DTSTART:20250603T183000Z
DTEND:20250603T220000Z
LOCATION:Craft by Side Hustle\,  The Galleria Al Maryah Island\,  Abu Dhabi Craft by Side Hustle\,  The Galleria Al Maryah Island\,  Abu Dhabi
SUMMARY:Desi Comedy Night
DESCRIPTION:Get ready for an unforgettable night of belly laughs and hilari
 ous moments at Desi Laughs: A Comedy Showcase as part of the Abu Dhabi Come
 dy Season! 🕺💃 On Tuesday\,  June 3rd\,  from 6:30 PM &#8211; 10:00 PM
 \,  head over to Craft by Side Hustle for an evening packed with the[..]\nh
 ttps://wow-abudhabi.com/events/desi-comedy-night/
URL:https://wow-abudhabi.com/events/desi-comedy-night/
END:VEVENT
END:VCALENDAR