BEGIN:VCALENDAR
VERSION:2.0
PRODID:-//eventon.com NONSGML v1.0//EN
CALSCALE:GREGORIAN
METHOD:PUBLISH
BEGIN:VEVENT
UID:69e91b7885f63
DTSTAMP:20260422T190320Z
DTSTART:20250524T090000Z
DTEND:20250525T235900Z
LOCATION:Mubadala Arena\,  Zayed Sports City\,  Abu Dhabi Mubadala Arena\,  Zayed Sports City\,  Abu Dhabi
SUMMARY:2025 Adidas NextGen Euroleague Finals
DESCRIPTION:The Adidas NextGen EuroLeague Finals are coming to Abu Dhabi fr
 om May 24–25\,  2025\,  and it’s going to be an electrifying event you 
 won’t want to miss! Catch the U18 EuroLeague tournament at the stunning M
 ubadala Arena in Zayed Sports City\,  marking the debut of this prestigious
  competition in the[..]\nhttps://wow-abudhabi.com/events/2025-adidas-nextge
 n-euroleague-finals/
URL:https://wow-abudhabi.com/events/2025-adidas-nextgen-euroleague-finals/
END:VEVENT
END:VCALENDAR