BEGIN:VCALENDAR
VERSION:2.0
PRODID:-//eventon.com NONSGML v1.0//EN
CALSCALE:GREGORIAN
METHOD:PUBLISH
BEGIN:VEVENT
UID:69e761c74f3a8
DTSTAMP:20260421T113847Z
DTSTART:20250607T123000Z
DTEND:20250607T153000Z
LOCATION:Zest\,  Al Ain Rotana\,  Abu Dhabi Zest\,  Al Ain Rotana\,  Abu Dhabi
SUMMARY:Zest Festive Buffet
DESCRIPTION:Celebrate Eid in the heart of Al Ain with an indulgent festive 
 buffet at Zest\,  Al Ain Rotana. On June 7\,  2025\,  experience a spread o
 f delicious dishes perfect for the occasion. Whether you prefer soft bevera
 ges or a glass of house beverage to accompany your meal\,  there&#8217;s so
 mething for[..]\nhttps://wow-abudhabi.com/events/zest-festive-buffet/
URL:https://wow-abudhabi.com/events/zest-festive-buffet/
END:VEVENT
END:VCALENDAR