BEGIN:VCALENDAR
VERSION:2.0
PRODID:-//eventon.com NONSGML v1.0//EN
CALSCALE:GREGORIAN
METHOD:PUBLISH
BEGIN:VEVENT
UID:69e74b24d0400
DTSTAMP:20260421T100212Z
DTSTART:20250605T100000Z
DTEND:20250608T200000Z
LOCATION:ADNEC Centre\,  Abu Dhabi\,  UAE ADNEC Centre\,  Abu Dhabi\,  UAE
SUMMARY:Abu Dhabi Summer Sports
DESCRIPTION:Celebrate Eid Al Adha with an exhilarating blend of sports\,  f
 ood\,  and family fun at the Abu Dhabi National Exhibition Centre! From Jun
 e 5 to 8\,  enjoy free evening access on June 5 and a fantastic 50% off all
  sports activities throughout the event. Immerse yourself in a day filled[.
 .]\nhttps://wow-abudhabi.com/events/abu-dhabi-summer-sports/
URL:https://wow-abudhabi.com/events/abu-dhabi-summer-sports/
END:VEVENT
END:VCALENDAR