BEGIN:VCALENDAR
VERSION:2.0
PRODID:-//eventon.com NONSGML v1.0//EN
CALSCALE:GREGORIAN
METHOD:PUBLISH
BEGIN:VEVENT
UID:69e76259432bf
DTSTAMP:20260421T114113Z
DTSTART:20250725T080000Z
DTEND:20250731T163000Z
LOCATION:Manarat Al Saadiyat\,  Abu Dhabi Manarat Al Saadiyat\,  Abu Dhabi
SUMMARY:Harry Potter™: The Exhibition
DESCRIPTION:Calling all witches\,  wizards\,  and muggles alike! 🧙‍♂
 ️ Warner Bros. Discovery Global Themed Entertainment\,  Imagine Exhibitio
 ns\,  and Eventim Live proudly bring Harry Potter™: The Exhibition to Abu
  Dhabi for the first time ever\,  opening 25 July 2025 at the iconic Manara
 t Al Saadiyat\,  Saadiyat Island. Get ready to be spellbound[..]\nhttps://w
 ow-abudhabi.com/events/harry-potter-the-exhibition/
URL:https://wow-abudhabi.com/events/harry-potter-the-exhibition/
END:VEVENT
END:VCALENDAR