BEGIN:VCALENDAR
VERSION:2.0
PRODID:-//eventon.com NONSGML v1.0//EN
CALSCALE:GREGORIAN
METHOD:PUBLISH
BEGIN:VEVENT
UID:69e7394cde061
DTSTAMP:20260421T084604Z
DTSTART:20250629T183000Z
DTEND:20250629T220000Z
LOCATION:Craft by Side Hustle\,  The Galleria Al Maryah Island Craft by Side Hustle\,  The Galleria Al Maryah Island
SUMMARY:Robby Collins Live in Abu Dhabi: A Night of Stand-Up Comedy
DESCRIPTION:Get ready for a night of laughter you won’t forget as Robby C
 ollins\,  one of South Africa’s top comedy exports\,  lands in Abu Dhabi!
  With razor-sharp wit\,  insightful stories\,  and his signature South Afri
 can flair\,  Robby brings the house down with every punchline. 📍 Venue: 
 Craft by Side Hustle📅 Date:[..]\nhttps://wow-abudhabi.com/events/robby-c
 ollins-in-abu-dhabi/
URL:https://wow-abudhabi.com/events/robby-collins-in-abu-dhabi/
END:VEVENT
END:VCALENDAR