BEGIN:VCALENDAR
VERSION:2.0
PRODID:-//eventon.com NONSGML v1.0//EN
CALSCALE:GREGORIAN
METHOD:PUBLISH
BEGIN:VEVENT
UID:69e76065e9e4b
DTSTAMP:20260421T113253Z
DTSTART:20251007T130000Z
DTEND:20251007T163000Z
LOCATION:Abu Dhabi\,  Al Ain\,  Al Dhafrah Abu Dhabi\,  Al Ain\,  Al Dhafrah
SUMMARY:421 Teens Program 2025
DESCRIPTION:🚀 Dreaming of a future in art\,  design\,  architecture\,  f
 ashion\,  or animation? The 421 Teens Program is your FREE ticket to level 
 up creatively—with hands-on workshops\,  mentorship\,  and portfolio crit
 iques to help you build a real path to university and beyond. 📍 Open to 
 high school students (Grades 11–12 /[..]\nhttps://wow-abudhabi.com/events
 /421-teens-program-2025/
URL:https://wow-abudhabi.com/events/421-teens-program-2025/
END:VEVENT
END:VCALENDAR