BEGIN:VCALENDAR
VERSION:2.0
PRODID:-//eventon.com NONSGML v1.0//EN
CALSCALE:GREGORIAN
METHOD:PUBLISH
BEGIN:VEVENT
UID:69e7619b066f2
DTSTAMP:20260421T113803Z
DTSTART:20250820T090000Z
DTEND:20250822T123000Z
LOCATION:Dee Studio\,  Abu Dhabi Dee Studio\,  Abu Dhabi
SUMMARY:K-Pop Workshop At Abu Dhabi
DESCRIPTION:K-Pop fans\,  your moment has arrived! From August 20 to 22\,  
 Dee Studio will transform into a full-blown K-Pop training academy – than
 ks to a powerhouse collab between the Korean Cultural Center and South Kore
 a’s Dong-Ah Institute of Media and Arts (DIMA)\,  the same school that’
 s helped train idols from[..]\nhttps://wow-abudhabi.com/events/k-pop-worksh
 op-at-abu-dhabi/
URL:https://wow-abudhabi.com/events/k-pop-workshop-at-abu-dhabi/
END:VEVENT
END:VCALENDAR